BEGIN:VCALENDAR
VERSION:2.0
PRODID:City of Staunton Calendar Creator
METHOD:PUBLISH
BEGIN:VEVENT
DTSTAMP:20260317T104922
DTSTART:20260502T080000
DTEND:20260502T110000
SUMMARY:32nd Annual YOUTH Fishing Derby
DESCRIPTION:<p>Open to youth 4-15 years of age. Prizes awarded in various categories. FREE on-site registration begins at 7:30am.&nbsp;</p><p>&nbsp;</p><p></p>
X-ALT-DESC;FMTTYPE=text/html:<p>Open to youth 4-15 years of age. Prizes awarded in various categories. FREE on-site registration begins at 7:30am.&nbsp;</p><p>&nbsp;</p><p></p>
LOCATION:Lake Tams - Gypsy Hill Park\, 116th Regimental Road Staunton\, Virginia 24401
CLASS:PUBLIC
END:VEVENT
END:VCALENDAR
