BEGIN:VCALENDAR
VERSION:2.0
PRODID:City of Staunton Calendar Creator
METHOD:PUBLISH
BEGIN:VEVENT
DTSTAMP:20250304T135744
DTSTART:20250523T103000
DTEND:20250523T110000
SUMMARY:All Together Now: Special Sandbox Storytime!
DESCRIPTION:<p>&nbsp;Enjoy a multi-age program of stories and songs at the Nature Ridge Playground at Montgomery Hall Park&nbsp;and then stroll through the latest book on display in our StoryWalk!</p><p>&nbsp;</p><p>Events sponsored by the Staunton Public Library are open to all and offered at no charge. The Library welcomes people of all abilities. Please alert us at least five business days in advance if there is a need for accommodation. For information or assistance, please call 540-332-3902 or email us at library@ci.staunton.va.us. For cancellation announcements, check our social media the day of the program or give us a call.</p>
X-ALT-DESC;FMTTYPE=text/html:<p>&nbsp;Enjoy a multi-age program of stories and songs at the Nature Ridge Playground at Montgomery Hall Park&nbsp;and then stroll through the latest book on display in our StoryWalk!</p><p>&nbsp;</p><p>Events sponsored by the Staunton Public Library are open to all and offered at no charge. The Library welcomes people of all abilities. Please alert us at least five business days in advance if there is a need for accommodation. For information or assistance, please call 540-332-3902 or email us at library@ci.staunton.va.us. For cancellation announcements, check our social media the day of the program or give us a call.</p>
LOCATION:
CLASS:PUBLIC
END:VEVENT
END:VCALENDAR
