BEGIN:VCALENDAR
VERSION:2.0
PRODID:City of Staunton Calendar Creator
METHOD:PUBLISH
BEGIN:VEVENT
DTSTAMP:20241115T120349
DTSTART:20250121T160000
DTEND:20250121T170000
SUMMARY:Teen Book Club: The Brightwood Code w/ Woodrow Wilson Museum
DESCRIPTION:<p>Our winter book club selection is The Brightwood Code by Monica Hesse - a historical mystery about a young woman reckoning with the secrets of her work as a US Army switchboard operator during World War I. We'll be joined by staff from the Woodrow Wilson Presidential Library &amp; Museum to discuss codes, ciphers, war-time communication, and The Great War. Participants receive a FREE copy of the book to keep, sponsored by the Friends of the Staunton Library. Three Tuesdays in January - January 7, 14 &amp; 21 - from 4-5 p.m. in the YA Area. For ages 13-18.</p><p>Events sponsored by the Staunton Public Library are open to all and offered at no charge. The Library welcomes people of all abilities. Please alert us at least five business days in advance if there is a need for accommodation. For information or assistance, please call 540-332-3902 or email us at library@ci.staunton.va.us. For cancellation announcements, check our social media the day of the program or give us a call.</p>
X-ALT-DESC;FMTTYPE=text/html:<p>Our winter book club selection is The Brightwood Code by Monica Hesse - a historical mystery about a young woman reckoning with the secrets of her work as a US Army switchboard operator during World War I. We'll be joined by staff from the Woodrow Wilson Presidential Library &amp; Museum to discuss codes, ciphers, war-time communication, and The Great War. Participants receive a FREE copy of the book to keep, sponsored by the Friends of the Staunton Library. Three Tuesdays in January - January 7, 14 &amp; 21 - from 4-5 p.m. in the YA Area. For ages 13-18.</p><p>Events sponsored by the Staunton Public Library are open to all and offered at no charge. The Library welcomes people of all abilities. Please alert us at least five business days in advance if there is a need for accommodation. For information or assistance, please call 540-332-3902 or email us at library@ci.staunton.va.us. For cancellation announcements, check our social media the day of the program or give us a call.</p>
LOCATION:Library\, 1 Churchville Ave Staunton\, Virginia 24401
CLASS:PUBLIC
END:VEVENT
END:VCALENDAR
