BEGIN:VCALENDAR
VERSION:2.0
PRODID:City of Staunton Calendar Creator
METHOD:PUBLISH
BEGIN:VEVENT
DTSTAMP:20250213T164704
DTSTART:20250322T100000
DTEND:20250322T120000
SUMMARY:ACGS Genealogy Workshops
DESCRIPTION:<p>Join us for the Augusta County Genealogical Society's Genealogy Workshop to be held on two consecutive Saturday mornings. This class will be taught by experienced genealogists and ACGS members. The second class will build on what participants learned in the first class. All levels of genealogist are welcome! If you are interested, please call 540-332-3902 or visit the Reference desk to register no later than Thursday, March 20.</p><p>Events sponsored by the Staunton Public Library are open to all and offered at no charge. The Library welcomes people of all abilities. Please alert us at least five business days in advance if there is a need for accommodation. For information or assistance, please call 540-332-3902 or email us at library@ci.staunton.va.us. For cancellation announcements, check our social media the day of the program or give us a call.</p><p>&nbsp;</p>
X-ALT-DESC;FMTTYPE=text/html:<p>Join us for the Augusta County Genealogical Society's Genealogy Workshop to be held on two consecutive Saturday mornings. This class will be taught by experienced genealogists and ACGS members. The second class will build on what participants learned in the first class. All levels of genealogist are welcome! If you are interested, please call 540-332-3902 or visit the Reference desk to register no later than Thursday, March 20.</p><p>Events sponsored by the Staunton Public Library are open to all and offered at no charge. The Library welcomes people of all abilities. Please alert us at least five business days in advance if there is a need for accommodation. For information or assistance, please call 540-332-3902 or email us at library@ci.staunton.va.us. For cancellation announcements, check our social media the day of the program or give us a call.</p><p>&nbsp;</p>
LOCATION:Library\, 1 Churchville Ave Staunton\, Virginia 24401
CLASS:PUBLIC
END:VEVENT
END:VCALENDAR
