BEGIN:VCALENDAR
VERSION:2.0
PRODID:City of Staunton Calendar Creator
METHOD:PUBLISH
BEGIN:VEVENT
DTSTAMP:20250213T164915
DTSTART:20250320T150000
DTEND:20250320T170000
SUMMARY:Minecraft March
DESCRIPTION:<p>Stop by the Children's Area after school on Thursdays in March for Minecraft-themed activities and crafts. Available from 3-5 p.m. as supplies last. Ages 8-12.</p><p>&nbsp;Events sponsored by the Staunton Public Library are open to all and offered at no charge. The Library welcomes people of all abilities. Please alert us at least five business days in advance if there is a need for accommodation. For information or assistance, please call 540-332-3902 or email us at library@ci.staunton.va.us. For cancellation announcements, check our social media the day of the program or give us a call.</p>
X-ALT-DESC;FMTTYPE=text/html:<p>Stop by the Children's Area after school on Thursdays in March for Minecraft-themed activities and crafts. Available from 3-5 p.m. as supplies last. Ages 8-12.</p><p>&nbsp;Events sponsored by the Staunton Public Library are open to all and offered at no charge. The Library welcomes people of all abilities. Please alert us at least five business days in advance if there is a need for accommodation. For information or assistance, please call 540-332-3902 or email us at library@ci.staunton.va.us. For cancellation announcements, check our social media the day of the program or give us a call.</p>
LOCATION:Library\, 1 Churchville Ave Staunton\, Virginia 24401
CLASS:PUBLIC
END:VEVENT
END:VCALENDAR
