BEGIN:VCALENDAR
VERSION:2.0
PRODID:City of Staunton Calendar Creator
METHOD:PUBLISH
BEGIN:VEVENT
DTSTAMP:20250304T145400
DTSTART:20250424T150000
DTEND:20250424T160000
SUMMARY:Avoiding A.I. Scams
DESCRIPTION:<p>&nbsp;Scams are everywhere and with A.I., detecting them is getting harder. Learn about some of the most common A.I. scams, how to avoid them, and what to do if you get caught in one.</p><p>Events sponsored by the Staunton Public Library are open to all and offered at no charge. The Library welcomes people of all abilities. Please alert us at least five business days in advance if there is a need for accommodation. For information or assistance, please call 540-332-3902 or email us at library@ci.staunton.va.us. For cancellation announcements, check our social media the day of the program or give us a call.</p>
X-ALT-DESC;FMTTYPE=text/html:<p>&nbsp;Scams are everywhere and with A.I., detecting them is getting harder. Learn about some of the most common A.I. scams, how to avoid them, and what to do if you get caught in one.</p><p>Events sponsored by the Staunton Public Library are open to all and offered at no charge. The Library welcomes people of all abilities. Please alert us at least five business days in advance if there is a need for accommodation. For information or assistance, please call 540-332-3902 or email us at library@ci.staunton.va.us. For cancellation announcements, check our social media the day of the program or give us a call.</p>
LOCATION:Library\, 1 Churchville Ave Staunton\, Virginia 24401
CLASS:PUBLIC
END:VEVENT
END:VCALENDAR
