BEGIN:VCALENDAR
VERSION:2.0
PRODID:City of Staunton Calendar Creator
METHOD:PUBLISH
BEGIN:VEVENT
DTSTAMP:20250305T155523
DTSTART:20250605T120000
DTEND:20250605T130000
SUMMARY:A Little Lunch Music: Shenandoah Cabaret
DESCRIPTION:<p>Every first Thursday of the month at noon, bring your lunch or enjoy free pizza provided by the Friends of the Staunton Library while you listen to live music.&nbsp;Featuring five of the best singing actors in the area and one intrepid pianist, Shenandoah Cabaret will perform selections from musical theatre and the American songbook. Whether solos or group numbers, each song functions like a play in miniature, with a wide range of emotional and&nbsp;tonal hues on display.</p><p>Events sponsored by the Staunton Public Library are open to all and offered at no charge. The Library welcomes people of all abilities. Please alert us at least five business days in advance if there is a need for accommodation. For information or assistance, please call 540-332-3902 or email us at library@ci.staunton.va.us. For cancellation announcements, check our social media the day of the program or give us a call.</p>
X-ALT-DESC;FMTTYPE=text/html:<p>Every first Thursday of the month at noon, bring your lunch or enjoy free pizza provided by the Friends of the Staunton Library while you listen to live music.&nbsp;Featuring five of the best singing actors in the area and one intrepid pianist, Shenandoah Cabaret will perform selections from musical theatre and the American songbook. Whether solos or group numbers, each song functions like a play in miniature, with a wide range of emotional and&nbsp;tonal hues on display.</p><p>Events sponsored by the Staunton Public Library are open to all and offered at no charge. The Library welcomes people of all abilities. Please alert us at least five business days in advance if there is a need for accommodation. For information or assistance, please call 540-332-3902 or email us at library@ci.staunton.va.us. For cancellation announcements, check our social media the day of the program or give us a call.</p>
LOCATION:Library\, 1 Churchville Ave Staunton\, Virginia 24401
CLASS:PUBLIC
END:VEVENT
END:VCALENDAR
