BEGIN:VCALENDAR
VERSION:2.0
PRODID:City of Staunton Calendar Creator
METHOD:PUBLISH
BEGIN:VEVENT
DTSTAMP:20250306T110950
DTSTART:20250415T160000
DTEND:20250415T170000
SUMMARY:Teen Book Club: YA Shakespeare Retellings
DESCRIPTION:<p>Star-crossed love, power, revenge, madness, and more - aye, we'll be discussing it all at our spring book club featuring YA retellings of Shakespeare plays. Choose from a variety of fiction and graphic novels at our first meeting and discuss your reading at our second and third meetings. Cohosted by the American Shakespeare Center. On April 8, 15, &amp; 22 from 4-5 p.m. in the YA Area. Ages 13-18.</p><p>Events sponsored by the Staunton Public Library are open to all and offered at no charge. The Library welcomes people of all abilities. Please alert us at least five business days in advance if there is a need for accommodation. For information or assistance, please call 540-332-3902 or email us at library@ci.staunton.va.us. For cancellation announcements, check our social media the day of the program or give us a call.</p>
X-ALT-DESC;FMTTYPE=text/html:<p>Star-crossed love, power, revenge, madness, and more - aye, we'll be discussing it all at our spring book club featuring YA retellings of Shakespeare plays. Choose from a variety of fiction and graphic novels at our first meeting and discuss your reading at our second and third meetings. Cohosted by the American Shakespeare Center. On April 8, 15, &amp; 22 from 4-5 p.m. in the YA Area. Ages 13-18.</p><p>Events sponsored by the Staunton Public Library are open to all and offered at no charge. The Library welcomes people of all abilities. Please alert us at least five business days in advance if there is a need for accommodation. For information or assistance, please call 540-332-3902 or email us at library@ci.staunton.va.us. For cancellation announcements, check our social media the day of the program or give us a call.</p>
LOCATION:Library\, 1 Churchville Ave Staunton\, Virginia 24401
CLASS:PUBLIC
END:VEVENT
END:VCALENDAR
