BEGIN:VCALENDAR
VERSION:2.0
PRODID:City of Staunton Calendar Creator
METHOD:PUBLISH
BEGIN:VEVENT
DTSTAMP:20250507T202922
DTSTART:20250804T000000
DTEND:20250815T235900
SUMMARY:No Children's Programs
DESCRIPTION:There will be no Children's programs from August 4-15. Join us again on August 18.&nbsp;
X-ALT-DESC;FMTTYPE=text/html:There will be no Children's programs from August 4-15. Join us again on August 18.&nbsp;
LOCATION:
CLASS:PUBLIC
END:VEVENT
END:VCALENDAR
