BEGIN:VCALENDAR
VERSION:2.0
PRODID:City of Staunton Calendar Creator
METHOD:PUBLISH
BEGIN:VEVENT
DTSTAMP:20250509T141046
DTSTART:20250619T000000
DTEND:20250619T235900
SUMMARY:CLOSED for Juneteenth Holiday
DESCRIPTION:
X-ALT-DESC;FMTTYPE=text/html:
LOCATION:
CLASS:PUBLIC
END:VEVENT
END:VCALENDAR
