BEGIN:VCALENDAR
VERSION:2.0
PRODID:City of Staunton Calendar Creator
METHOD:PUBLISH
BEGIN:VEVENT
DTSTAMP:20250511T160134
DTSTART:20250618T140000
DTEND:20250618T160000
SUMMARY:Mini Murals
DESCRIPTION:<p>&nbsp;Get inspired by street art as you draw mini graffiti on a faux brick canvas.&nbsp;Ages 11-18.&nbsp;</p><p>&nbsp;Events sponsored by the Staunton Public Library are open to all and offered at no charge. The Library welcomes people of all abilities. Please alert us at least five business days in advance if there is a need for accommodation. For information or assistance, please call 540-332-3902 or email us at library@ci.staunton.va.us. For cancellation announcements, check our social media the day of the program or give us a call.</p>
X-ALT-DESC;FMTTYPE=text/html:<p>&nbsp;Get inspired by street art as you draw mini graffiti on a faux brick canvas.&nbsp;Ages 11-18.&nbsp;</p><p>&nbsp;Events sponsored by the Staunton Public Library are open to all and offered at no charge. The Library welcomes people of all abilities. Please alert us at least five business days in advance if there is a need for accommodation. For information or assistance, please call 540-332-3902 or email us at library@ci.staunton.va.us. For cancellation announcements, check our social media the day of the program or give us a call.</p>
LOCATION:Library\, 1 Churchville Ave Staunton\, Virginia 24401
CLASS:PUBLIC
END:VEVENT
END:VCALENDAR
