BEGIN:VCALENDAR
VERSION:2.0
PRODID:City of Staunton Calendar Creator
METHOD:PUBLISH
BEGIN:VEVENT
DTSTAMP:20250827T202139
DTSTART:20251014T160000
DTEND:20251014T170000
SUMMARY:Teen Book Club: Books & Braiiiiiins
DESCRIPTION:<p>Choose from a variety of zombie-themed horror and thriller titles for teens at our fall book club. There will be snacks, games and activities too! Meets three Tuesdays in a row. Ages 13-18.</p><p>Events sponsored by the Staunton Public Library are open to all and offered at no charge. The Library welcomes people of all abilities. Please alert us at least five business days in advance if there is a need for accommodation. For information or assistance, please call 540-332-3902 or email us at library@ci.staunton.va.us. For cancellation announcements, check our social media the day of the program or give us a call.</p><p>&nbsp;</p>
X-ALT-DESC;FMTTYPE=text/html:<p>Choose from a variety of zombie-themed horror and thriller titles for teens at our fall book club. There will be snacks, games and activities too! Meets three Tuesdays in a row. Ages 13-18.</p><p>Events sponsored by the Staunton Public Library are open to all and offered at no charge. The Library welcomes people of all abilities. Please alert us at least five business days in advance if there is a need for accommodation. For information or assistance, please call 540-332-3902 or email us at library@ci.staunton.va.us. For cancellation announcements, check our social media the day of the program or give us a call.</p><p>&nbsp;</p>
LOCATION:Library\, 1 Churchville Ave Staunton\, Virginia 24401
CLASS:PUBLIC
END:VEVENT
END:VCALENDAR
