BEGIN:VCALENDAR
VERSION:2.0
PRODID:City of Staunton Calendar Creator
METHOD:PUBLISH
BEGIN:VEVENT
DTSTAMP:20250924T152228
DTSTART:20251017T080000
DTEND:20251017T200000
SUMMARY:Talking Book Center Fundraiser at Panera
DESCRIPTION:<p><b>We’re raising dough!</b></p><p>Order something tasty and support the Talking Book Center</p><p>Friday, Oct. 17 from 8 a.m. – 8 p.m. at Panera</p><p>1101 Red Top Orchard Road, Waynesboro</p><p>Use code <b><u>FUND4U</u></b> at panerabread.com, in the Panera App or at the kiosk in-café. Or <a href="https://drive.google.com/file/d/1yYn6eEUK1tUU_7cUvbvuXSWy07-SyTYE/view?usp=sharing">show a digital copy of this flyer</a> to the cashier when ordering at the café. Panera will generously donate 20% of net sales to the Talking Book Center to support accessible public library services for readers who are blind, low vision or print disabled. Or, please consider making a <a href="https://www.paypal.com/us/fundraiser/charity/2430297">direct, tax-deductible donation to the Talking Book Center</a>, a 501(c)(3) organization.</p>
X-ALT-DESC;FMTTYPE=text/html:<p><b>We’re raising dough!</b></p><p>Order something tasty and support the Talking Book Center</p><p>Friday, Oct. 17 from 8 a.m. – 8 p.m. at Panera</p><p>1101 Red Top Orchard Road, Waynesboro</p><p>Use code <b><u>FUND4U</u></b> at panerabread.com, in the Panera App or at the kiosk in-café. Or <a href="https://drive.google.com/file/d/1yYn6eEUK1tUU_7cUvbvuXSWy07-SyTYE/view?usp=sharing">show a digital copy of this flyer</a> to the cashier when ordering at the café. Panera will generously donate 20% of net sales to the Talking Book Center to support accessible public library services for readers who are blind, low vision or print disabled. Or, please consider making a <a href="https://www.paypal.com/us/fundraiser/charity/2430297">direct, tax-deductible donation to the Talking Book Center</a>, a 501(c)(3) organization.</p>
LOCATION:
CLASS:PUBLIC
END:VEVENT
END:VCALENDAR
