BEGIN:VCALENDAR
VERSION:2.0
PRODID:City of Staunton Calendar Creator
METHOD:PUBLISH
BEGIN:VEVENT
DTSTAMP:20251117T164757
DTSTART:20260108T133000
DTEND:20260108T143000
SUMMARY:Homeschool Hour
DESCRIPTION:<p>Join other home schooling families at this interactive program for Grades 3-5. </p><p>December: Art for the Holiday Season</p><p> January: Winter Indoor Games!</p><p> February: Black History Month, Celebrate the contributions of African-American entrepreneurs and scientists.</p><p>Events sponsored by the Staunton Public Library are open to all and offered at no charge. The Library welcomes people of all abilities. Please alert us at least five business days in advance if there is a need for accommodation. For information or assistance, please call 540-332-3902 or email us at library@ci.staunton.va.us. For cancellation announcements, check our social media the day of the program or give us a call.</p>
X-ALT-DESC;FMTTYPE=text/html:<p>Join other home schooling families at this interactive program for Grades 3-5. </p><p>December: Art for the Holiday Season</p><p> January: Winter Indoor Games!</p><p> February: Black History Month, Celebrate the contributions of African-American entrepreneurs and scientists.</p><p>Events sponsored by the Staunton Public Library are open to all and offered at no charge. The Library welcomes people of all abilities. Please alert us at least five business days in advance if there is a need for accommodation. For information or assistance, please call 540-332-3902 or email us at library@ci.staunton.va.us. For cancellation announcements, check our social media the day of the program or give us a call.</p>
LOCATION:Library\, 1 Churchville Ave Staunton\, Virginia 24401
CLASS:PUBLIC
END:VEVENT
END:VCALENDAR
