BEGIN:VCALENDAR
VERSION:2.0
PRODID:City of Staunton Calendar Creator
METHOD:PUBLISH
BEGIN:VEVENT
DTSTAMP:20251202T133345
DTSTART:20260210T190000
DTEND:20260210T200000
SUMMARY:Romantasy Book Club with Summer England
DESCRIPTION:<p>Join local author and social media sensation, Summer England, for a cozy evening as we discuss all things Romantasy (Romance + Fantasy) and her upcoming novel, The Impossible Garden of Clara Thorne. Tea and pastries will be served. Adults.</p><p>Events sponsored by the Staunton Public Library are open to all and offered at no charge. The Library welcomes people of all abilities. Please alert us at least five business days in advance if there is a need for accommodation. For information or assistance, please call 540-332-3902 or email us at library@ci.staunton.va.us. For cancellation announcements, check our social media the day of the program or give us a call.</p>
X-ALT-DESC;FMTTYPE=text/html:<p>Join local author and social media sensation, Summer England, for a cozy evening as we discuss all things Romantasy (Romance + Fantasy) and her upcoming novel, The Impossible Garden of Clara Thorne. Tea and pastries will be served. Adults.</p><p>Events sponsored by the Staunton Public Library are open to all and offered at no charge. The Library welcomes people of all abilities. Please alert us at least five business days in advance if there is a need for accommodation. For information or assistance, please call 540-332-3902 or email us at library@ci.staunton.va.us. For cancellation announcements, check our social media the day of the program or give us a call.</p>
LOCATION:Library\, 1 Churchville Ave Staunton\, Virginia 24401
CLASS:PUBLIC
END:VEVENT
END:VCALENDAR
