BEGIN:VCALENDAR
VERSION:2.0
PRODID:City of Staunton Calendar Creator
METHOD:PUBLISH
BEGIN:VEVENT
DTSTAMP:20251202T133612
DTSTART:20260212T153000
DTEND:20260212T173000
SUMMARY:Sweets Shop Paper Folding Project
DESCRIPTION:<p>&nbsp;Fold tiny paper desserts to add to a collaborative bakery diaroma for our YA space! We will be using the Sweets Shop template designed by Minya &amp; Somemachi from Canon Creative Park. Ages 11-18</p><p>Events sponsored by the Staunton Public Library are open to all and offered at no charge. The Library welcomes people of all abilities. Please alert us at least five business days in advance if there is a need for accommodation. For information or assistance, please call 540-332-3902 or email us at library@ci.staunton.va.us. For cancellation announcements, check our social media the day of the program or give us a call.</p>
X-ALT-DESC;FMTTYPE=text/html:<p>&nbsp;Fold tiny paper desserts to add to a collaborative bakery diaroma for our YA space! We will be using the Sweets Shop template designed by Minya &amp; Somemachi from Canon Creative Park. Ages 11-18</p><p>Events sponsored by the Staunton Public Library are open to all and offered at no charge. The Library welcomes people of all abilities. Please alert us at least five business days in advance if there is a need for accommodation. For information or assistance, please call 540-332-3902 or email us at library@ci.staunton.va.us. For cancellation announcements, check our social media the day of the program or give us a call.</p>
LOCATION:Library\, 1 Churchville Ave Staunton\, Virginia 24401
CLASS:PUBLIC
END:VEVENT
END:VCALENDAR
