BEGIN:VCALENDAR
VERSION:2.0
PRODID:City of Staunton Calendar Creator
METHOD:PUBLISH
BEGIN:VEVENT
DTSTAMP:20251231T122509
DTSTART:20260602T160000
DTEND:20260602T200000
SUMMARY:Nominations Committee Meeting
DESCRIPTION:<p><b>The Nominations Committee of Staunton City Council will meet&nbsp; on the first Tuesday of every month in the Caucus Room of City Hall at 116, W Beverley St, Staunton to convene in a closed meeting for the following:</b></p><p><b>&nbsp;</b>To discuss possible specific appointees for positions on various Boards and Commissions , pursuant to Virginia Code §<b>&nbsp;</b>2.2-3711(A)(1).</p><p><b>&nbsp;</b>It is not anticipated that any announcement will be made at this time.</p>
X-ALT-DESC;FMTTYPE=text/html:<p><b>The Nominations Committee of Staunton City Council will meet&nbsp; on the first Tuesday of every month in the Caucus Room of City Hall at 116, W Beverley St, Staunton to convene in a closed meeting for the following:</b></p><p><b>&nbsp;</b>To discuss possible specific appointees for positions on various Boards and Commissions , pursuant to Virginia Code §<b>&nbsp;</b>2.2-3711(A)(1).</p><p><b>&nbsp;</b>It is not anticipated that any announcement will be made at this time.</p>
LOCATION:City Hall\, 116 W Beverley St Staunton\, Virginia 24401
CLASS:PUBLIC
END:VEVENT
END:VCALENDAR
