BEGIN:VCALENDAR
VERSION:2.0
PRODID:City of Staunton Calendar Creator
METHOD:PUBLISH
BEGIN:VEVENT
DTSTAMP:20260116T103917
DTSTART:20260526T140000
DTEND:20260526T150000
SUMMARY:SAWAS Owners Meeting
DESCRIPTION:<p>A meeting of the Staunton-Augusta-Waynesboro Animal Shelter owners' meeting. (Formerly SVASC)</p>
X-ALT-DESC;FMTTYPE=text/html:<p>A meeting of the Staunton-Augusta-Waynesboro Animal Shelter owners' meeting. (Formerly SVASC)</p>
LOCATION:Animal Shelter\, 1011 Lee Highway Verona\, Virginia 24482
CLASS:PUBLIC
END:VEVENT
END:VCALENDAR
