BEGIN:VCALENDAR
VERSION:2.0
PRODID:City of Staunton Calendar Creator
METHOD:PUBLISH
BEGIN:VEVENT
DTSTAMP:20260219T155217
DTSTART:20260323T154500
DTEND:20260323T163000
SUMMARY:Stretch-no-Grow Spring Session
DESCRIPTION:<p>Get some pep in your step for spring! An instructor from Stretch-n-Grow of the Blue Ridge will lead a fun exercise class for children ages 5-10. Bring your athletic shoes and plenty of energy! Come to the 2nd Floor Meeting Room. Ages 5-10.</p><p>Events sponsored by the Staunton Public Library are open to all and offered at no charge. The Library welcomes people of all abilities. Please alert us at least five business days in advance if there is a need for accommodation. For information or assistance, please call 540-332-3902 or email us at library@ci.staunton.va.us. For cancellation announcements, check our social media the day of the program or give us a call.</p>
X-ALT-DESC;FMTTYPE=text/html:<p>Get some pep in your step for spring! An instructor from Stretch-n-Grow of the Blue Ridge will lead a fun exercise class for children ages 5-10. Bring your athletic shoes and plenty of energy! Come to the 2nd Floor Meeting Room. Ages 5-10.</p><p>Events sponsored by the Staunton Public Library are open to all and offered at no charge. The Library welcomes people of all abilities. Please alert us at least five business days in advance if there is a need for accommodation. For information or assistance, please call 540-332-3902 or email us at library@ci.staunton.va.us. For cancellation announcements, check our social media the day of the program or give us a call.</p>
LOCATION:Library\, 1 Churchville Ave Staunton\, Virginia 24401
CLASS:PUBLIC
END:VEVENT
END:VCALENDAR
