BEGIN:VCALENDAR
VERSION:2.0
PRODID:City of Staunton Calendar Creator
METHOD:PUBLISH
BEGIN:VEVENT
DTSTAMP:20260223T111540
DTSTART:20261202T180000
DTEND:20261202T190000
SUMMARY:DEI Community Connections Sub-Committee Meeting
DESCRIPTION:<p>Community Connections Subcommittee&nbsp; meetings are held at 6:00 p.m. in the Meeting Room on the second floor of the Staunton Public Library, 1 Churchville Ave., Staunton, Virginia on the first Monday of the month. The meeting is open to the public. There will be no opportunity for public comment. </p>
X-ALT-DESC;FMTTYPE=text/html:<p>Community Connections Subcommittee&nbsp; meetings are held at 6:00 p.m. in the Meeting Room on the second floor of the Staunton Public Library, 1 Churchville Ave., Staunton, Virginia on the first Monday of the month. The meeting is open to the public. There will be no opportunity for public comment. </p>
LOCATION:Library\, 1 Churchville Ave Staunton\, Virginia 24401
CLASS:PUBLIC
END:VEVENT
END:VCALENDAR
