BEGIN:VCALENDAR
VERSION:2.0
PRODID:City of Staunton Calendar Creator
METHOD:PUBLISH
BEGIN:VEVENT
DTSTAMP:20260415T122243
DTSTART:20260416T083000
DTEND:20260416T100000
SUMMARY:Economic Development Authority (EDA) Meeting
DESCRIPTION:An in-person meeting of the Economic Development Authority, held in the Caucus Room in City Hall, first floor. The EDA normally meets the 1st Thursday of each month. This meeting was rescheduled due to a conflict.&nbsp;
X-ALT-DESC;FMTTYPE=text/html:An in-person meeting of the Economic Development Authority, held in the Caucus Room in City Hall, first floor. The EDA normally meets the 1st Thursday of each month. This meeting was rescheduled due to a conflict.&nbsp;
LOCATION:City Hall\, 116 W Beverley St Staunton\, Virginia 24401
CLASS:PUBLIC
END:VEVENT
END:VCALENDAR
