BEGIN:VCALENDAR
VERSION:2.0
PRODID:City of Staunton Calendar Creator
METHOD:PUBLISH
BEGIN:VEVENT
DTSTAMP:20260407T100028
DTSTART:20260415T160000
DTEND:20260415T170000
SUMMARY:Electoral Board Meeting
DESCRIPTION:The City of Staunton Electoral Board will meet on April 15th, 2026 at 4:00 p.m. in the Caucus Room on the 1st floor of City Hall, 116 W. Beverley Street, Staunton, VA. <br>
X-ALT-DESC;FMTTYPE=text/html:The City of Staunton Electoral Board will meet on April 15th, 2026 at 4:00 p.m. in the Caucus Room on the 1st floor of City Hall, 116 W. Beverley Street, Staunton, VA. <br>
LOCATION:City Hall\, 116 W Beverley St Staunton\, Virginia 24401
CLASS:PUBLIC
END:VEVENT
END:VCALENDAR
