BEGIN:VCALENDAR
VERSION:2.0
PRODID:City of Staunton Calendar Creator
METHOD:PUBLISH
BEGIN:VEVENT
DTSTAMP:20260415T122525
DTSTART:20260507T083000
DTEND:20260507T100000
SUMMARY:Economic Development Authority (EDA) Meeting
DESCRIPTION:An in-person meeting of the Economic Development Authority, normally held in the City Manager's Conference Room in City Hall, 3rd floor. The EDA normally meets the 1st Thursday of each month. This meeting location is TBD.
X-ALT-DESC;FMTTYPE=text/html:An in-person meeting of the Economic Development Authority, normally held in the City Manager's Conference Room in City Hall, 3rd floor. The EDA normally meets the 1st Thursday of each month. This meeting location is TBD.
LOCATION:City Hall\, 116 W Beverley St Staunton\, Virginia 24401
CLASS:PUBLIC
END:VEVENT
END:VCALENDAR
