BEGIN:VCALENDAR
VERSION:2.0
PRODID:City of Staunton Calendar Creator
METHOD:PUBLISH
BEGIN:VEVENT
DTSTAMP:20260415T131054
DTSTART:20260611T093000
DTEND:20260611T103000
SUMMARY:Tourism Advisory Board Meeting
DESCRIPTION:In person Tourism Advisory Board Meeting in the Caucus Room. Normally meets the second Tuesday of each month at 9:30 am.&nbsp;
X-ALT-DESC;FMTTYPE=text/html:In person Tourism Advisory Board Meeting in the Caucus Room. Normally meets the second Tuesday of each month at 9:30 am.&nbsp;
LOCATION:City Hall\, 116 W Beverley St Staunton\, Virginia 24401
CLASS:PUBLIC
END:VEVENT
END:VCALENDAR
